BEGIN:VCALENDAR
VERSION:2.0
PRODID:-//AudioTheme 1.8.3
BEGIN:VEVENT
UID:https://demo.audiotheme.com/americanaura/?post_type=audiotheme_gig&amp;p=25
URL:https://patrickbauwens.com/shows/telluride-bluegrass-festival/
DTSTART;VALUE=DATE:20150621
SUMMARY:Telluride Bluegrass Festival
END:VEVENT
END:VCALENDAR