BEGIN:VCALENDAR
VERSION:2.0
PRODID:-//AudioTheme 1.8.3
BEGIN:VEVENT
UID:http://patbauwens.be/?post_type=audiotheme_gig&#038;p=947
URL:https://patrickbauwens.com/shows/hommage-a-george-martin-avec-dan-lacksman/
DTSTART;TZID=GMT:20160328T120000
SUMMARY:Hommage à George Martin avec Dan Lacksman
DESCRIPTION:Hommage à George Martin avec Dan Lacksman
LOCATION:Radio 21
END:VEVENT
END:VCALENDAR